BEGIN:VCALENDAR
VERSION:2.0
PRODID:-//Byerland Church - ECPv6.15.20//NONSGML v1.0//EN
CALSCALE:GREGORIAN
METHOD:PUBLISH
X-WR-CALNAME:Byerland Church
X-ORIGINAL-URL:https://byerlandchurch.org
X-WR-CALDESC:Events for Byerland Church
REFRESH-INTERVAL;VALUE=DURATION:PT1H
X-Robots-Tag:noindex
X-PUBLISHED-TTL:PT1H
BEGIN:VTIMEZONE
TZID:America/New_York
BEGIN:DAYLIGHT
TZOFFSETFROM:-0500
TZOFFSETTO:-0400
TZNAME:EDT
DTSTART:20170312T070000
END:DAYLIGHT
BEGIN:STANDARD
TZOFFSETFROM:-0400
TZOFFSETTO:-0500
TZNAME:EST
DTSTART:20171105T060000
END:STANDARD
BEGIN:DAYLIGHT
TZOFFSETFROM:-0500
TZOFFSETTO:-0400
TZNAME:EDT
DTSTART:20180311T070000
END:DAYLIGHT
BEGIN:STANDARD
TZOFFSETFROM:-0400
TZOFFSETTO:-0500
TZNAME:EST
DTSTART:20181104T060000
END:STANDARD
BEGIN:DAYLIGHT
TZOFFSETFROM:-0500
TZOFFSETTO:-0400
TZNAME:EDT
DTSTART:20190310T070000
END:DAYLIGHT
BEGIN:STANDARD
TZOFFSETFROM:-0400
TZOFFSETTO:-0500
TZNAME:EST
DTSTART:20191103T060000
END:STANDARD
END:VTIMEZONE
BEGIN:VEVENT
DTSTART;TZID=America/New_York:20180913T183000
DTEND;TZID=America/New_York:20180913T203000
DTSTAMP:20260419T125029
CREATED:20180824T152057Z
LAST-MODIFIED:20180824T152057Z
UID:1812-1536863400-1536870600@byerlandchurch.org
SUMMARY:Dinner Church
DESCRIPTION:Dinner Church – 6:30-8:30 p.m. at the home of Luke & Dot Hess. Contact: Joe Garber 717-278-2562
URL:https://byerlandchurch.org/event/dinner-church-18/2018-09-13/
END:VEVENT
END:VCALENDAR