BEGIN:VCALENDAR
VERSION:2.0
PRODID:-//Byerland Church - ECPv6.15.20//NONSGML v1.0//EN
CALSCALE:GREGORIAN
METHOD:PUBLISH
X-WR-CALNAME:Byerland Church
X-ORIGINAL-URL:https://byerlandchurch.org
X-WR-CALDESC:Events for Byerland Church
REFRESH-INTERVAL;VALUE=DURATION:PT1H
X-Robots-Tag:noindex
X-PUBLISHED-TTL:PT1H
BEGIN:VTIMEZONE
TZID:America/New_York
BEGIN:DAYLIGHT
TZOFFSETFROM:-0500
TZOFFSETTO:-0400
TZNAME:EDT
DTSTART:20200308T070000
END:DAYLIGHT
BEGIN:STANDARD
TZOFFSETFROM:-0400
TZOFFSETTO:-0500
TZNAME:EST
DTSTART:20201101T060000
END:STANDARD
BEGIN:DAYLIGHT
TZOFFSETFROM:-0500
TZOFFSETTO:-0400
TZNAME:EDT
DTSTART:20210314T070000
END:DAYLIGHT
BEGIN:STANDARD
TZOFFSETFROM:-0400
TZOFFSETTO:-0500
TZNAME:EST
DTSTART:20211107T060000
END:STANDARD
BEGIN:DAYLIGHT
TZOFFSETFROM:-0500
TZOFFSETTO:-0400
TZNAME:EDT
DTSTART:20220313T070000
END:DAYLIGHT
BEGIN:STANDARD
TZOFFSETFROM:-0400
TZOFFSETTO:-0500
TZNAME:EST
DTSTART:20221106T060000
END:STANDARD
END:VTIMEZONE
BEGIN:VEVENT
DTSTART;TZID=America/New_York:20210704T090000
DTEND;TZID=America/New_York:20210704T100000
DTSTAMP:20260425T114613
CREATED:20210124T135847Z
LAST-MODIFIED:20220713T002514Z
UID:5665-1625389200-1625392800@byerlandchurch.org
SUMMARY:Growth Groups
DESCRIPTION:BMC Growth group take place from 9:00am – 10:00am. \nFor more information on classes please click on the following link: \nSundays \n \n 
URL:https://byerlandchurch.org/event/growth-groups-2021-07-04/2021-07-04/
LOCATION:Byerland Church\, 931 Byerland Church Road\, Willow Street\, PA\, 17584\, United States
END:VEVENT
END:VCALENDAR