BEGIN:VCALENDAR
VERSION:2.0
PRODID:-//Byerland Church - ECPv6.15.20//NONSGML v1.0//EN
CALSCALE:GREGORIAN
METHOD:PUBLISH
X-ORIGINAL-URL:https://byerlandchurch.org
X-WR-CALDESC:Events for Byerland Church
REFRESH-INTERVAL;VALUE=DURATION:PT1H
X-Robots-Tag:noindex
X-PUBLISHED-TTL:PT1H
BEGIN:VTIMEZONE
TZID:America/New_York
BEGIN:DAYLIGHT
TZOFFSETFROM:-0500
TZOFFSETTO:-0400
TZNAME:EDT
DTSTART:20180311T070000
END:DAYLIGHT
BEGIN:STANDARD
TZOFFSETFROM:-0400
TZOFFSETTO:-0500
TZNAME:EST
DTSTART:20181104T060000
END:STANDARD
BEGIN:DAYLIGHT
TZOFFSETFROM:-0500
TZOFFSETTO:-0400
TZNAME:EDT
DTSTART:20190310T070000
END:DAYLIGHT
BEGIN:STANDARD
TZOFFSETFROM:-0400
TZOFFSETTO:-0500
TZNAME:EST
DTSTART:20191103T060000
END:STANDARD
BEGIN:DAYLIGHT
TZOFFSETFROM:-0500
TZOFFSETTO:-0400
TZNAME:EDT
DTSTART:20200308T070000
END:DAYLIGHT
BEGIN:STANDARD
TZOFFSETFROM:-0400
TZOFFSETTO:-0500
TZNAME:EST
DTSTART:20201101T060000
END:STANDARD
END:VTIMEZONE
BEGIN:VEVENT
DTSTART;TZID=America/New_York:20191103T090000
DTEND;TZID=America/New_York:20191103T100000
DTSTAMP:20260421T232058
CREATED:20190622T131925Z
LAST-MODIFIED:20201101T231823Z
UID:2768-1572771600-1572775200@byerlandchurch.org
SUMMARY:Morning Worship Service
DESCRIPTION:Service 9:00am-10:00am \nGrowth Groups 10:30am-11:30am \nMeeting inside the church \nUse the contact page to call or email to find out more information on about a typical Sunday morning.
URL:https://byerlandchurch.org/event/morning-worship-service/2019-11-03/
LOCATION:Byerland Church\, 931 Byerland Church Road\, Willow Street\, PA\, 17584\, United States
END:VEVENT
END:VCALENDAR