BEGIN:VCALENDAR
VERSION:2.0
PRODID:-//Byerland Church - ECPv6.15.20//NONSGML v1.0//EN
CALSCALE:GREGORIAN
METHOD:PUBLISH
X-ORIGINAL-URL:https://byerlandchurch.org
X-WR-CALDESC:Events for Byerland Church
REFRESH-INTERVAL;VALUE=DURATION:PT1H
X-Robots-Tag:noindex
X-PUBLISHED-TTL:PT1H
BEGIN:VTIMEZONE
TZID:America/New_York
BEGIN:DAYLIGHT
TZOFFSETFROM:-0500
TZOFFSETTO:-0400
TZNAME:EDT
DTSTART:20210314T070000
END:DAYLIGHT
BEGIN:STANDARD
TZOFFSETFROM:-0400
TZOFFSETTO:-0500
TZNAME:EST
DTSTART:20211107T060000
END:STANDARD
BEGIN:DAYLIGHT
TZOFFSETFROM:-0500
TZOFFSETTO:-0400
TZNAME:EDT
DTSTART:20220313T070000
END:DAYLIGHT
BEGIN:STANDARD
TZOFFSETFROM:-0400
TZOFFSETTO:-0500
TZNAME:EST
DTSTART:20221106T060000
END:STANDARD
BEGIN:DAYLIGHT
TZOFFSETFROM:-0500
TZOFFSETTO:-0400
TZNAME:EDT
DTSTART:20230312T070000
END:DAYLIGHT
BEGIN:STANDARD
TZOFFSETFROM:-0400
TZOFFSETTO:-0500
TZNAME:EST
DTSTART:20231105T060000
END:STANDARD
END:VTIMEZONE
BEGIN:VEVENT
DTSTART;TZID=America/New_York:20220801T183000
DTEND;TZID=America/New_York:20220801T203000
DTSTAMP:20260425T091515
CREATED:20220326T191341Z
LAST-MODIFIED:20220511T182454Z
UID:6944-1659378600-1659385800@byerlandchurch.org
SUMMARY:Vacation Bible School
DESCRIPTION:VBS at BMC 2022 – Adventures on Promise Island!\nWHO: Anyone age 3 – completed grade 6 \n \nWHAT: Adventures on Promise Island Vacation Bible School – singing to our Lord\, skits\, Bible stories\, games\, crafts\, snacks\, friends\, and more! \nWHEN: August 1-5\, 2022 \nTIME: 6:30-8:30pm \nWHERE: Byerland Mennonite Church – 931 Byerland Church Road Willow Street\, PA 17584 – Map \nWHY: “Let the children come to me\, and do not hinder them\, for to such belongs the kingdom of God” (Luke 18:16) \nRegistration Form: VBS Registration Form – please complete and email to bmc-vbs@mailbox.org
URL:https://byerlandchurch.org/event/vbs2022/2022-08-01/
LOCATION:Byerland Church\, 931 Byerland Church Road\, Willow Street\, PA\, 17584\, United States
END:VEVENT
END:VCALENDAR